BEGIN:VCALENDAR
VERSION:2.0
PRODID:EVENTFROG//EVENT//ICAL
BEGIN:VEVENT
UID:20260421T161532Z-7441401642086312333@eventfrog.at
DTSTAMP:20260421T161532Z
DTSTART:20260528T084500Z
DTEND:20260528T094500Z
SUMMARY:Ophthalmologische Reha: Vorraussetzungen und Antragstellung
DESCRIPTION:Prof. Kunert und Prof. Schrage erklären die ophthalmologische Rehabilitation und deren Antragstellung bei Versicherungen.\n\nhttps://eventfrog.at/de/p/fuehrungen-vortraege/vortrag/ophthalmologische-reha-vorraussetzungen-und-antragstellung-7441401642086312333.html
LOCATION:Hybrid - Online oder Kap Europa, Frankfurt a.M.
URL:https://eventfrog.at/de/p/fuehrungen-vortraege/vortrag/ophthalmologische-reha-vorraussetzungen-und-antragstellung-7441401642086312333.html
END:VEVENT
END:VCALENDAR