BEGIN:VCALENDAR
VERSION:2.0
PRODID:EVENTFROG//EVENT//ICAL
BEGIN:VEVENT
UID:20260421T161534Z-7441216509337187768@eventfrog.at
DTSTAMP:20260421T161534Z
DTSTART:20260527T124500Z
DTEND:20260527T131500Z
SUMMARY:Digitale Barrierefreiheit vs. analoge Beharrung
DESCRIPTION:Der Vortrag von Stefan Wilke beleuchtet den Widerspruch zwischen digitaler Barrierefreiheit und analogen Gewohnheiten und Lösungen für echte Inklusion.\n\nhttps://eventfrog.at/de/p/fuehrungen-vortraege/vortrag/digitale-barrierefreiheit-vs-analoge-beharrung-7441216509337187768.html
LOCATION:Hybrid - Online oder Kap Europa, Frankfurt a.M.
URL:https://eventfrog.at/de/p/fuehrungen-vortraege/vortrag/digitale-barrierefreiheit-vs-analoge-beharrung-7441216509337187768.html
END:VEVENT
END:VCALENDAR