BEGIN:VCALENDAR
VERSION:2.0
PRODID:EVENTFROG//EVENT//ICAL
BEGIN:VEVENT
UID:20260421T161534Z-7441213735526475195@eventfrog.at
DTSTAMP:20260421T161534Z
DTSTART:20260527T111500Z
DTEND:20260527T124500Z
SUMMARY:Netzwerk berufliche Teilhabe - arbeitsmarktnah und innovativ
DESCRIPTION:KI erweitert Assistenz für Sehbehinderte mit neuen und ergänzenden Hilfsmitteln wie KI Assistent Pro.\n\nhttps://eventfrog.at/de/p/fuehrungen-vortraege/vortrag/netzwerk-berufliche-teilhabe-arbeitsmarktnah-und-innovativ-7441213735526475195.html
LOCATION:Hybrid - Online oder Kap Europa, Frankfurt a.M.
URL:https://eventfrog.at/de/p/fuehrungen-vortraege/vortrag/netzwerk-berufliche-teilhabe-arbeitsmarktnah-und-innovativ-7441213735526475195.html
END:VEVENT
END:VCALENDAR