BEGIN:VCALENDAR
VERSION:2.0
PRODID:EVENTFROG//EVENT//ICAL
BEGIN:VEVENT
UID:20260420T161627Z-7441117442573620944@eventfrog.at
DTSTAMP:20260420T161627Z
DTSTART:20260426T173000Z
DTEND:20260426T200000Z
SUMMARY:Kiezpoeten : Erotik Slam Royale
DESCRIPTION:Erotischer Poetry Slam im Ballhaus Wedding bietet einen Abend voller anzüglicher Texte und sinnlicher Poesie in elegantem Ambiente.\n\nhttps://eventfrog.at/de/p/theater-buehne/poetry-slam/kiezpoeten-erotik-slam-royale-7441117442573620944.html
LOCATION:Ballhaus Wedding
GEO:52.556611;13.388830
URL:https://eventfrog.at/de/p/theater-buehne/poetry-slam/kiezpoeten-erotik-slam-royale-7441117442573620944.html
END:VEVENT
END:VCALENDAR