BEGIN:VCALENDAR
VERSION:2.0
PRODID:EVENTFROG//EVENT//ICAL
BEGIN:VEVENT
UID:20260425T151932Z-7440430993423480141@eventfrog.at
DTSTAMP:20260425T151932Z
DTSTART:20260426T070000Z
DTEND:20260426T130000Z
SUMMARY:1. Dorfflohmarkt Prosselsheim
DESCRIPTION:Am 26. April findet in Prosselsheim ein Flohmarkt mit Kasperl-Theater und Tag der offenen Tür der Dorferneuerung statt.\n\nhttps://eventfrog.at/de/p/maerkte/flohmarkt/1-dorfflohmarkt-prosselsheim-7440430993423480141.html
LOCATION:Ortskern
GEO:49.860064;10.114630
URL:https://eventfrog.at/de/p/maerkte/flohmarkt/1-dorfflohmarkt-prosselsheim-7440430993423480141.html
END:VEVENT
END:VCALENDAR