BEGIN:VCALENDAR
VERSION:2.0
PRODID:EVENTFROG//EVENT//ICAL
BEGIN:VEVENT
UID:20260420T063310Z-7440415944130749091@eventfrog.at
DTSTAMP:20260420T063310Z
DTSTART:20260523T193000Z
DTEND:20260523T210000Z
SUMMARY:Nachtwächter Ralf Rundgang 23Mai
DESCRIPTION:Mittelalter und Stadtgeschichte hautnah erleben, in authentischer Umgebung, kompakt und kurzweilig dargestellt in neuen und alten Medien. \n\nhttps://eventfrog.at/de/p/fuehrungen-vortraege/stadtfuehrung/nachtwaechter-ralf-rundgang-23mai-7440415944130749091.html
LOCATION:Rosengart Platz
GEO:47.052391;8.308091
URL:https://eventfrog.at/de/p/fuehrungen-vortraege/stadtfuehrung/nachtwaechter-ralf-rundgang-23mai-7440415944130749091.html
END:VEVENT
END:VCALENDAR