BEGIN:VCALENDAR
VERSION:2.0
PRODID:EVENTFROG//EVENT//ICAL
BEGIN:VEVENT
UID:20260422T192551Z-7440410106053846901@eventfrog.at
DTSTAMP:20260422T192551Z
DTSTART:20260926T160000Z
DTEND:20260926T190000Z
SUMMARY:Rapé Zeremonie
DESCRIPTION:Motto und Details folgen\n\nhttps://eventfrog.at/de/p/gesundheit-spiritualitaet/gesundheit-wohlbefinden/rape-zeremonie-7440410106053846901.html
LOCATION:Langenzenn - Details nach Anmeldung
URL:https://eventfrog.at/de/p/gesundheit-spiritualitaet/gesundheit-wohlbefinden/rape-zeremonie-7440410106053846901.html
END:VEVENT
END:VCALENDAR