BEGIN:VCALENDAR
VERSION:2.0
PRODID:EVENTFROG//EVENT//ICAL
BEGIN:VEVENT
UID:20260422T154143Z-7440393963830278859@eventfrog.at
DTSTAMP:20260422T154143Z
DTSTART:20260503T150000Z
DTEND:20260503T200000Z
SUMMARY:Magic Dinner Wiesbaden – Interaktive Zaubershow mit exzellen
DESCRIPTION:Beim Magic Dinner treffen moderne Magiekunst und feine Kulinarik zu einem stilvollen Abend voller Überraschungen zusammen.\n\nhttps://eventfrog.at/de/p/theater-buehne/buehnenveranstaltung/magic-dinner-wiesbaden-interaktive-zaubershow-mit-exzellen-7440393963830278859.html
LOCATION:Gutsausschank Diefenhardt
GEO:50.053788;8.120849
URL:https://eventfrog.at/de/p/theater-buehne/buehnenveranstaltung/magic-dinner-wiesbaden-interaktive-zaubershow-mit-exzellen-7440393963830278859.html
END:VEVENT
END:VCALENDAR