BEGIN:VCALENDAR
VERSION:2.0
PRODID:EVENTFROG//EVENT//ICAL
BEGIN:VEVENT
UID:20260425T120506Z-7440139389043213483@eventfrog.at
DTSTAMP:20260425T120506Z
DTSTART:20260511T160000Z
DTEND:20260511T171500Z
SUMMARY:ReSet Sound Bath
DESCRIPTION:Eintauche in Klänge tibetischer Klangschalen, lass Gedanken los und finde Ruhe und Harmonie bei einem Sound Bath. Teilnahme bei bestimmten gesundheitlichen Bedingungen nicht empfohlen. \n\nhttps://eventfrog.at/de/p/gesundheit-spiritualitaet/gesundheit-wohlbefinden/reset-sound-bath-7440139389043213483.html
LOCATION:Eiserfelder Str. 289
GEO:50.845792;7.987544
URL:https://eventfrog.at/de/p/gesundheit-spiritualitaet/gesundheit-wohlbefinden/reset-sound-bath-7440139389043213483.html
END:VEVENT
END:VCALENDAR