BEGIN:VCALENDAR
VERSION:2.0
PRODID:EVENTFROG//EVENT//ICAL
BEGIN:VEVENT
UID:20260424T095855Z-7439962676934014426@eventfrog.at
DTSTAMP:20260424T095855Z
DTSTART:20260425T070000Z
DTEND:20260425T130000Z
SUMMARY:Hüttli-Fäscht beim Blueme-Hüttli vor dem Volg Seuzach
DESCRIPTION:Hüttli-Fäscht bei unserem Blueme-Hüttli vor dem Volg Seuzach - Kommen Sie vorbei und lernen Sie das Lewisia-Team und ihre schönen Blumenkreationen kennen.\n\nhttps://eventfrog.at/de/p/diverses/huettli-faescht-beim-blueme-huettli-vor-dem-volg-seuzach-7439962676934014426.html
LOCATION:Volg Seuzach
GEO:47.534909;8.734343
URL:https://eventfrog.at/de/p/diverses/huettli-faescht-beim-blueme-huettli-vor-dem-volg-seuzach-7439962676934014426.html
END:VEVENT
END:VCALENDAR