BEGIN:VCALENDAR
VERSION:2.0
PRODID:EVENTFROG//EVENT//ICAL
BEGIN:VEVENT
UID:20260424T062246Z-7439611166328890534@eventfrog.at
DTSTAMP:20260424T062246Z
DTSTART:20260502T200000Z
DTEND:20260503T020000Z
SUMMARY:Teknofauchi 9.0
DESCRIPTION:Im Tommasini sorgt DRC b2b Gibsy2000 mit Norm für eine Techno-Nacht voller treibender Bässe und schwebender Melodien.\n\nhttps://eventfrog.at/de/p/partys/electro/teknofauchi-9-0-7439611166328890534.html
LOCATION:Kulturhaus Tommasini
GEO:47.383252;8.175489
URL:https://eventfrog.at/de/p/partys/electro/teknofauchi-9-0-7439611166328890534.html
END:VEVENT
END:VCALENDAR