BEGIN:VCALENDAR
VERSION:2.0
PRODID:EVENTFROG//EVENT//ICAL
BEGIN:VEVENT
UID:20260424T122958Z-7439597555598529701@eventfrog.at
DTSTAMP:20260424T122958Z
DTSTART:20260425T180000Z
DTEND:20260425T193000Z
SUMMARY:Minihorror - Der Abgrund im Heute
DESCRIPTION:Barbi Markovic liest aus «Minihorror», ausgezeichnet mit dem Preis der Leipziger Buchmesse 2024, und zeigt den alltäglichen Abgrund.\n\nhttps://eventfrog.at/de/p/theater-buehne/lesung/minihorror-der-abgrund-im-heute-7439597555598529701.html
LOCATION:Kloster Raitenhaslach / Aula Major
GEO:48.127700;12.786230
URL:https://eventfrog.at/de/p/theater-buehne/lesung/minihorror-der-abgrund-im-heute-7439597555598529701.html
END:VEVENT
END:VCALENDAR