BEGIN:VCALENDAR
VERSION:2.0
PRODID:EVENTFROG//EVENT//ICAL
BEGIN:VEVENT
UID:20260424T032011Z-7439330897139110249@eventfrog.at
DTSTAMP:20260424T032011Z
DTSTART:20260614T170000Z
DTEND:20260614T190000Z
SUMMARY:NICOLE METZGER – ONE NIGHT OF ELLA
DESCRIPTION:Nicole Metzger ehrt in « One Night of Ella » Ella Fitzgerald mit Geschichten und Jazzklassikern, begleitet von erstklassigen Musikern.\n\nhttps://eventfrog.at/de/p/konzerte/jazz-blues/nicole-metzger-one-night-of-ella-7439330897139110249.html
LOCATION:Glashaus im Waldpark
GEO:49.468243;8.610591
URL:https://eventfrog.at/de/p/konzerte/jazz-blues/nicole-metzger-one-night-of-ella-7439330897139110249.html
END:VEVENT
END:VCALENDAR