BEGIN:VCALENDAR
VERSION:2.0
PRODID:EVENTFROG//EVENT//ICAL
BEGIN:VEVENT
UID:20260421T224932Z-7439257425826341395@eventfrog.at
DTSTAMP:20260421T224932Z
DTSTART:20270306T080000Z
DTEND:20270306T150000Z
SUMMARY:21. Dortmunder Wundforum
DESCRIPTION:21. Dortmunder Wundforum\n\nhttps://eventfrog.at/de/p/fuehrungen-vortraege/symposium/21-dortmunder-wundforum-7439257425826341395.html
LOCATION:Hörder Burgplatz
GEO:51.491028;7.504790
URL:https://eventfrog.at/de/p/fuehrungen-vortraege/symposium/21-dortmunder-wundforum-7439257425826341395.html
END:VEVENT
END:VCALENDAR