BEGIN:VCALENDAR
VERSION:2.0
PRODID:EVENTFROG//EVENT//ICAL
BEGIN:VEVENT
UID:20260424T072524Z-7439082003310339315@eventfrog.at
DTSTAMP:20260424T072524Z
DTSTART:20260510T090000Z
DTEND:20260510T093000Z
SUMMARY:Sonntagsbrunch mit Mathias Landtwing Quartett
DESCRIPTION:Frisch, frech & eigenständig!\n\nhttps://eventfrog.at/de/p/konzerte/sonntagsbrunch-mit-mathias-landtwing-quartett-7439082003310339315.html
LOCATION:Dimensione
GEO:47.499441;8.732479
URL:https://eventfrog.at/de/p/konzerte/sonntagsbrunch-mit-mathias-landtwing-quartett-7439082003310339315.html
END:VEVENT
END:VCALENDAR