BEGIN:VCALENDAR
VERSION:2.0
PRODID:EVENTFROG//EVENT//ICAL
BEGIN:VEVENT
UID:20260422T222804Z-7438911739947657216@eventfrog.at
DTSTAMP:20260422T222804Z
DTSTART:20260425T090000Z
DTEND:20260425T190000Z
SUMMARY:Krieger-Schwitzhütte für Männer
DESCRIPTION:Die Kraft des Kriegers ist die Kraft, die alles durchtrennt, was nicht mehr zu dir gehört. Es ist die Kraft, die jegliche Schatten ans Licht bringt, ebenso wie Manipulation und Unwahrheit.\n\nhttps://eventfrog.at/de/p/gesundheit-spiritualitaet/spiritualitaet/krieger-schwitzhuette-fuer-maenner-7438911739947657216.html
LOCATION:Guidohof
GEO:50.881913;12.652486
URL:https://eventfrog.at/de/p/gesundheit-spiritualitaet/spiritualitaet/krieger-schwitzhuette-fuer-maenner-7438911739947657216.html
END:VEVENT
END:VCALENDAR