BEGIN:VCALENDAR
VERSION:2.0
PRODID:EVENTFROG//EVENT//ICAL
BEGIN:VEVENT
UID:20260419T145703Z-7438632367156113174@eventfrog.at
DTSTAMP:20260419T145703Z
DTSTART:20260829T183000Z
DTEND:20260829T210000Z
SUMMARY:Open-Air-Kino
DESCRIPTION:Kostenloser Film unter freiem Himmel - Picknick kann mitgebracht werden!\n\nhttps://eventfrog.at/de/p/diverses/open-air-kino-7438632367156113174.html
LOCATION:Wiese vor dem Künstlerhaus
GEO:52.475000;10.345110
URL:https://eventfrog.at/de/p/diverses/open-air-kino-7438632367156113174.html
END:VEVENT
END:VCALENDAR