BEGIN:VCALENDAR
VERSION:2.0
PRODID:EVENTFROG//EVENT//ICAL
BEGIN:VEVENT
UID:20260421T140039Z-7437926609980502139@eventfrog.at
DTSTAMP:20260421T140039Z
DTSTART:20260424T120000Z
DTEND:20260426T130000Z
SUMMARY:Natur Campus
DESCRIPTION:Der Natur Campus ist ein Forum für Wald- und Naturgesundheit mit Expertenvorträgen, Workshops und Naturerlebnissen – Austausch, Inspiration und neue Impulse für Gesundheit und Naturverbundenheit.\n\nhttps://eventfrog.at/de/p/gesundheit-spiritualitaet/gesundheit-wohlbefinden/natur-campus-7437926609980502139.html
LOCATION:Deutsche Akademie für Waldbaden und Gesundheit
GEO:49.300412;8.101551
URL:https://eventfrog.at/de/p/gesundheit-spiritualitaet/gesundheit-wohlbefinden/natur-campus-7437926609980502139.html
END:VEVENT
END:VCALENDAR