BEGIN:VCALENDAR
VERSION:2.0
PRODID:EVENTFROG//EVENT//ICAL
BEGIN:VEVENT
UID:20260421T005248Z-7437880825880805561@eventfrog.at
DTSTAMP:20260421T005248Z
DTSTART:20260424T200000Z
SUMMARY:RBS - Gen Z - Spende mit deinem Ticket!
DESCRIPTION:24.04.26 - ab 22:00 Uhr, Club 43 in Hameln\nTickets im Vorverkauf: 10,00 \nAbendkasse: 13,00 \n\nhttps://eventfrog.at/de/p/partys/sonstige-partys/rbs-gen-z-spende-mit-deinem-ticket-7437880825880805561.html
LOCATION:Club 43
GEO:52.103860;9.361186
URL:https://eventfrog.at/de/p/partys/sonstige-partys/rbs-gen-z-spende-mit-deinem-ticket-7437880825880805561.html
END:VEVENT
END:VCALENDAR