BEGIN:VCALENDAR
VERSION:2.0
PRODID:EVENTFROG//EVENT//ICAL
BEGIN:VEVENT
UID:20260421T094204Z-7437134575107635790@eventfrog.at
DTSTAMP:20260421T094204Z
DTSTART:20260423T173000Z
DTEND:20260423T200000Z
SUMMARY:Stefan Jürgens liest & spielt Tucholsky
DESCRIPTION: In Tucholskys  90igsten Todesjahr geht Multitalent Stefan Jürgens mit uns auf eine Reise durch das enorme Werk dieses großen Schriftstellers, der in keine Schublade zu stecken ist. \n\n\nhttps://eventfrog.at/de/p/theater-buehne/comedy-kabarett/stefan-juergens-liest-spielt-tucholsky-7437134575107635790.html
LOCATION:Anna-Ditzen-Bibliothek
GEO:52.521330;13.704240
URL:https://eventfrog.at/de/p/theater-buehne/comedy-kabarett/stefan-juergens-liest-spielt-tucholsky-7437134575107635790.html
END:VEVENT
END:VCALENDAR