BEGIN:VCALENDAR
VERSION:2.0
PRODID:EVENTFROG//EVENT//ICAL
BEGIN:VEVENT
UID:20260419T173752Z-7435634967101603570@eventfrog.at
DTSTAMP:20260419T173752Z
DTSTART:20260616T083000Z
DTEND:20260616T093000Z
SUMMARY:Karl, zieh den Rock aus
DESCRIPTION:Auf unterhaltsame Weise werden sowohl aus Sicht der Kinder als auch aus Sicht von Zero, der keine gesellschaftliche Prägung hat, vorherrschende Rollenmuster hinterfragt.\n\nhttps://eventfrog.at/de/p/kinderveranstaltungen/kindertheater/karl-zieh-den-rock-aus-7435634967101603570.html
LOCATION:Theater Jaro
GEO:52.471759;13.307754
URL:https://eventfrog.at/de/p/kinderveranstaltungen/kindertheater/karl-zieh-den-rock-aus-7435634967101603570.html
END:VEVENT
END:VCALENDAR