BEGIN:VCALENDAR
VERSION:2.0
PRODID:EVENTFROG//EVENT//ICAL
BEGIN:VEVENT
UID:20260421T042855Z-7434881059395743241@eventfrog.at
DTSTAMP:20260421T042855Z
DTSTART:20260424T170000Z
DTEND:20260424T190000Z
SUMMARY:Beatles, Stones & Star Wars – Popmusik auf der Kirchenorgel
DESCRIPTION:Michael Schütz (Berlin) entführt die Zuhörer in die Welt der populären Hits aus Pop, Rock und Filmmusik – das ist ganz großes Kino! Geeignet für alle Altersgruppen und Musikinteressierte.\n\nhttps://eventfrog.at/de/p/konzerte/pop-rock/beatles-stones-star-wars-popmusik-auf-der-kirchenorgel-7434881059395743241.html
LOCATION:Pfarrkirche St. Peter und Paul, Bei der Peterskirche 9, 02826 Görlitz
GEO:51.157710;14.992396
URL:https://eventfrog.at/de/p/konzerte/pop-rock/beatles-stones-star-wars-popmusik-auf-der-kirchenorgel-7434881059395743241.html
END:VEVENT
END:VCALENDAR