BEGIN:VCALENDAR
VERSION:2.0
PRODID:EVENTFROG//EVENT//ICAL
BEGIN:VEVENT
UID:20260424T062235Z-7434287983648348933@eventfrog.at
DTSTAMP:20260424T062235Z
DTSTART:20261121T090000Z
DTEND:20261121T110000Z
SUMMARY:Holiday Cards Workshop Vol. 8
DESCRIPTION:Workshop zu Weihnachtskarten am 21. November in Basel mit Getränk, Kuchen und max. 8 Teilnehmenden.\n\nhttps://eventfrog.at/de/p/kurse-seminare/freizeit-hobby/holiday-cards-workshop-vol-8-7434287983648348933.html
LOCATION:1777 Restaurant Kaffee Bar
GEO:47.557012;7.587745
URL:https://eventfrog.at/de/p/kurse-seminare/freizeit-hobby/holiday-cards-workshop-vol-8-7434287983648348933.html
END:VEVENT
END:VCALENDAR