BEGIN:VCALENDAR
VERSION:2.0
PRODID:EVENTFROG//EVENT//ICAL
BEGIN:VEVENT
UID:20260425T023510Z-7433865381742179198@eventfrog.at
DTSTAMP:20260425T023510Z
DTSTART:20260425T180000Z
DTEND:20260426T000000Z
SUMMARY:EVRYDAZE x Prinzregent - Spring Edition
DESCRIPTION:Am 25.04.2026 bietet das Prinzregent Ansbach ein Musik-Event "EVRYDAZE x Prinzregent - Spring Edition" mit Afro House, House und Tech House Sounds.\n\nhttps://eventfrog.at/de/p/partys/disco/evrydaze-x-prinzregent-spring-edition-7433865381742179198.html
LOCATION:Café Prinzregent
GEO:49.305157;10.565688
URL:https://eventfrog.at/de/p/partys/disco/evrydaze-x-prinzregent-spring-edition-7433865381742179198.html
END:VEVENT
END:VCALENDAR