BEGIN:VCALENDAR
VERSION:2.0
PRODID:EVENTFROG//EVENT//ICAL
BEGIN:VEVENT
UID:20260424T105226Z-7433175750264543555@eventfrog.at
DTSTAMP:20260424T105226Z
DTSTART:20260801T123000Z
DTEND:20260801T215900Z
SUMMARY:Open-Air zum 10 - jährigen Vereinsjubiläum
DESCRIPTION:Vereinsjubiläum und Nationalfeiertag werden mit Live-Countrymusik, Linedance im Festzelt, in der TanzBar und mit gastronomischen Angeboten gefeiert.\n\nhttps://eventfrog.at/de/p/konzerte/country/open-air-zum-10-jaehrigen-vereinsjubilaeum-7433175750264543555.html
LOCATION:TanzBar im Rubigencenter
GEO:46.907279;7.539863
URL:https://eventfrog.at/de/p/konzerte/country/open-air-zum-10-jaehrigen-vereinsjubilaeum-7433175750264543555.html
END:VEVENT
END:VCALENDAR