BEGIN:VCALENDAR
VERSION:2.0
PRODID:EVENTFROG//EVENT//ICAL
BEGIN:VEVENT
UID:20260422T115438Z-7432729850257890636@eventfrog.at
DTSTAMP:20260422T115438Z
DTSTART:20260703T080000Z
DTEND:20260705T163000Z
SUMMARY:Gartentage auf Schloss Tüßling
DESCRIPTION:Messe für Garten und stilvolles Wohnen mit über 180 ausgesuchten Ausstellern\n\nhttps://eventfrog.at/de/p/messen/gartenschau/gartentage-auf-schloss-tuessling-7432729850257890636.html
LOCATION:Schloss Tüßling
GEO:48.213078;12.599130
URL:https://eventfrog.at/de/p/messen/gartenschau/gartentage-auf-schloss-tuessling-7432729850257890636.html
END:VEVENT
END:VCALENDAR