BEGIN:VCALENDAR
VERSION:2.0
PRODID:EVENTFROG//EVENT//ICAL
BEGIN:VEVENT
UID:20260425T192956Z-7425135863284139075@eventfrog.at
DTSTAMP:20260425T192956Z
DTSTART:20260429T160000Z
DTEND:20260429T200000Z
SUMMARY:Kulinarische Länderreise in die Niederlande
DESCRIPTION:Im Philipp Eins bietet Robbert Cornelissen authentische niederländische Küche.\n\nhttps://eventfrog.at/de/p/essen-trinken/kulinarische-laenderreise-in-die-niederlande-7425135863284139075.html
LOCATION:philipp eins
GEO:49.319719;8.434954
URL:https://eventfrog.at/de/p/essen-trinken/kulinarische-laenderreise-in-die-niederlande-7425135863284139075.html
END:VEVENT
END:VCALENDAR