BEGIN:VCALENDAR
VERSION:2.0
PRODID:EVENTFROG//EVENT//ICAL
BEGIN:VEVENT
UID:20260422T101922Z-7424967433213984970@eventfrog.at
DTSTAMP:20260422T101922Z
DTSTART:20260516T160000Z
DTEND:20260516T213000Z
SUMMARY:Rock Night mit "Madhouse"
DESCRIPTION:Blues- und Rock-Covers von Künstlern wie Beth Hart, BB King, Eric Clapton, Janis Joplin, Tina Turner, Neil Young und weiteren.\n\nhttps://eventfrog.at/de/p/konzerte/pop-rock/rock-night-mit-madhouse-7424967433213984970.html
LOCATION:Kultur & Eventsaal Rössli
GEO:46.774214;7.572600
URL:https://eventfrog.at/de/p/konzerte/pop-rock/rock-night-mit-madhouse-7424967433213984970.html
END:VEVENT
END:VCALENDAR