BEGIN:VCALENDAR
VERSION:2.0
PRODID:EVENTFROG//EVENT//ICAL
BEGIN:VEVENT
UID:20260424T114415Z-7424220028076060895@eventfrog.at
DTSTAMP:20260424T114415Z
DTSTART:20260710T100000Z
DTEND:20260710T110000Z
SUMMARY:Spiralmuskeltraining – regelmässige Übungsstunden
DESCRIPTION:Spiralmuskeltraining-Kurse vertiefen Haltung, Koordination und Körpergefühl zur Wirbelsäulenaufspannung.\n\nhttps://eventfrog.at/de/p/sport-fitness/turnen/spiralmuskeltraining-regelmaessige-uebungsstunden-7424220028076060895.html
LOCATION:Gsundheitspraxis Kriech
GEO:47.067071;7.343919
URL:https://eventfrog.at/de/p/sport-fitness/turnen/spiralmuskeltraining-regelmaessige-uebungsstunden-7424220028076060895.html
END:VEVENT
END:VCALENDAR