BEGIN:VCALENDAR
VERSION:2.0
PRODID:EVENTFROG//EVENT//ICAL
BEGIN:VEVENT
UID:20260422T191748Z-7421908038922058037@eventfrog.at
DTSTAMP:20260422T191748Z
DTSTART:20260911T173000Z
DTEND:20260911T200000Z
SUMMARY:Kabarett „HengstmannBrüder“ - neues Programm
DESCRIPTION:Sebastian und Tobias Hengstmann präsentierten die humorvolle Kabarettshow «Wir müssen immer lachen» mit vielen lustigen Geschichten.\n\nhttps://eventfrog.at/de/p/theater-buehne/comedy-kabarett/kabarett-hengstmannbrueder-neues-programm-7421908038922058037.html
LOCATION:KulturFabrik Haldensleben
GEO:52.287521;11.407987
URL:https://eventfrog.at/de/p/theater-buehne/comedy-kabarett/kabarett-hengstmannbrueder-neues-programm-7421908038922058037.html
END:VEVENT
END:VCALENDAR