BEGIN:VCALENDAR
VERSION:2.0
PRODID:EVENTFROG//EVENT//ICAL
BEGIN:VEVENT
UID:20260422T113302Z-7421300516703979469@eventfrog.at
DTSTAMP:20260422T113302Z
DTSTART:20260502T083000Z
DTEND:20260502T163000Z
SUMMARY:Sich verwandt machen
DESCRIPTION:Die Ausstellung «Making Kin / Sich verwandt machen» zeigt internationale Künstlerinnen und Beziehungsnetze.\n\nhttps://eventfrog.at/de/p/kunst-ausstellungen/ausstellung/sich-verwandt-machen-7421300516703979469.html
LOCATION:Humboldt Forum
GEO:52.517275;13.401640
URL:https://eventfrog.at/de/p/kunst-ausstellungen/ausstellung/sich-verwandt-machen-7421300516703979469.html
END:VEVENT
END:VCALENDAR