BEGIN:VCALENDAR
VERSION:2.0
PRODID:EVENTFROG//EVENT//ICAL
BEGIN:VEVENT
UID:20260419T231109Z-7420508036765112651@eventfrog.at
DTSTAMP:20260419T231109Z
DTSTART:20260424T180000Z
DTEND:20260424T210000Z
SUMMARY:GERA - MAMMA MIA - ABBA TOUR PARTYMOTTO
DESCRIPTION:MAMMA MIA - ABBA auf DEUTSCHLAND-TOUR PARTYMOTTO - Mitsing Konzert\n\nhttps://eventfrog.at/de/p/partys/sonstige-partys/gera-mamma-mia-abba-tour-partymotto-7420508036765112651.html
LOCATION:MUSIC HALL
GEO:50.871280;12.075257
URL:https://eventfrog.at/de/p/partys/sonstige-partys/gera-mamma-mia-abba-tour-partymotto-7420508036765112651.html
END:VEVENT
END:VCALENDAR