BEGIN:VCALENDAR
VERSION:2.0
PRODID:EVENTFROG//EVENT//ICAL
BEGIN:VEVENT
UID:20260423T021858Z-7419342355151469189@eventfrog.at
DTSTAMP:20260423T021858Z
DTSTART:20260426T173000Z
SUMMARY:Stand-up comedy, free entry!
DESCRIPTION:End your week on a bang! English stand up comedy at Klara.\n\nhttps://eventfrog.at/en/p/theatre-stage/comedy-cabaret/stand-up-comedy-free-entry-7419342355151469189.html
LOCATION:Klara Basel
GEO:47.562434;7.595521
URL:https://eventfrog.at/en/p/theatre-stage/comedy-cabaret/stand-up-comedy-free-entry-7419342355151469189.html
END:VEVENT
END:VCALENDAR