BEGIN:VCALENDAR
VERSION:2.0
PRODID:EVENTFROG//EVENT//ICAL
BEGIN:VEVENT
UID:20260420T063317Z-7417543949957473476@eventfrog.at
DTSTAMP:20260420T063317Z
DTSTART:20260426T080000Z
DTEND:20260426T160000Z
SUMMARY:Dino Expo & Show Bürgerhaus Backnang
DESCRIPTION: Dinosaurier-Ausstellung\nmit beweglichen Dinosauriern\n\n Bürgerhaus Backnang\n Samstag 25.04.2026\n Sonntag, 26.04.2026\n Öffnungszeiten: 10:00 – 18:00 Uhr\n\nhttps://eventfrog.at/de/p/kinderveranstaltungen/familienveranstaltungen/dino-expo-show-buergerhaus-backnang-7417543949957473476.html
LOCATION:Bürgerhaus Backnang
GEO:48.943883;9.429268
URL:https://eventfrog.at/de/p/kinderveranstaltungen/familienveranstaltungen/dino-expo-show-buergerhaus-backnang-7417543949957473476.html
END:VEVENT
END:VCALENDAR