BEGIN:VCALENDAR
VERSION:2.0
PRODID:EVENTFROG//EVENT//ICAL
BEGIN:VEVENT
UID:20260425T212314Z-7417173611906077663@eventfrog.at
DTSTAMP:20260425T212314Z
DTSTART:20260427T160000Z
SUMMARY:Schüsslersalz-Therapeut/in mit Diplom
DESCRIPTION:Fundierte Schüsslersalz-Therapie Ausbildung für Menschen und Tiere inkl. Diplom. Lernen Sie Anwendung, Dosierung und mehr.\n\nhttps://eventfrog.at/de/p/kurse-seminare/freizeit-hobby/schuesslersalz-therapeut-in-mit-diplom-7417173611906077663.html
LOCATION: 
URL:https://eventfrog.at/de/p/kurse-seminare/freizeit-hobby/schuesslersalz-therapeut-in-mit-diplom-7417173611906077663.html
END:VEVENT
END:VCALENDAR