BEGIN:VCALENDAR
VERSION:2.0
PRODID:EVENTFROG//EVENT//ICAL
BEGIN:VEVENT
UID:20260419T175927Z-7414961355931797836@eventfrog.at
DTSTAMP:20260419T175927Z
DTSTART:20260422T050000Z
DTEND:20260422T130000Z
SUMMARY:Großer überdachter Flohmarkt jeden Mittwoch in Hockenheim
DESCRIPTION:Jeden Mittwoch grosser überdachter Flohmarkt im Parkhaus, Standplatz ab 6 Uhr, Standmiete 3m  25 Euro, Teilnahme ohne Anmeldung. Online Verkauf auf gerosflohmarkt.de.\n\nhttps://eventfrog.at/de/p/maerkte/flohmarkt/grosser-ueberdachter-flohmarkt-jeden-mittwoch-in-hockenheim-7414961355931797836.html
LOCATION:Globus Hockenheim
GEO:49.338014;8.532227
URL:https://eventfrog.at/de/p/maerkte/flohmarkt/grosser-ueberdachter-flohmarkt-jeden-mittwoch-in-hockenheim-7414961355931797836.html
END:VEVENT
END:VCALENDAR