BEGIN:VCALENDAR
VERSION:2.0
PRODID:EVENTFROG//EVENT//ICAL
BEGIN:VEVENT
UID:20260425T200828Z-7406672011051718439@eventfrog.at
DTSTAMP:20260425T200828Z
DTSTART:20260509T150000Z
DTEND:20260509T200000Z
SUMMARY:Barocknacht
DESCRIPTION:Am 9. Mai 2026 bietet das Bad Homburger Schloss Barockmusik, Sektempfang, Dinnerbuffet und Führungen im Jubiläumsabschluss an.\n\nhttps://eventfrog.at/de/p/klassik-opern/klassik/barocknacht-7406672011051718439.html
LOCATION:Schlosskirche Bad Homburg
GEO:50.229000;8.610590
URL:https://eventfrog.at/de/p/klassik-opern/klassik/barocknacht-7406672011051718439.html
END:VEVENT
END:VCALENDAR