BEGIN:VCALENDAR
VERSION:2.0
PRODID:EVENTFROG//EVENT//ICAL
BEGIN:VEVENT
UID:20260424T072533Z-7402658358031841623@eventfrog.at
DTSTAMP:20260424T072533Z
DTSTART:20260424T183000Z
DTEND:20260424T210000Z
SUMMARY:Dänu Wisler & Band
DESCRIPTION:Folk, Jazz, Blues, Rock\n\nhttps://eventfrog.at/de/p/konzerte/pop-rock/daenu-wisler-band-7402658358031841623.html
LOCATION:Kulturmühle
GEO:47.005013;7.694347
URL:https://eventfrog.at/de/p/konzerte/pop-rock/daenu-wisler-band-7402658358031841623.html
END:VEVENT
END:VCALENDAR