BEGIN:VCALENDAR
VERSION:2.0
PRODID:EVENTFROG//EVENT//ICAL
BEGIN:VEVENT
UID:20260425T191642Z-7380232250950998433@eventfrog.at
DTSTAMP:20260425T191642Z
DTSTART:20260428T160000Z
DTEND:20260428T200000Z
SUMMARY:ADAC Motorrad Kurven-Training 1
DESCRIPTION:Kurvenfahren, viele sagen, »Das Salz in der Suppe«! Aber welche Linie macht im Straßenverkehr wann Sinn? \n\nhttps://eventfrog.at/de/p/kurse-seminare/coaching/adac-motorrad-kurven-training-1-7380232250950998433.html
LOCATION:ADAC Fahrsicherheitszentrum Grevenbroich
GEO:51.083287;6.551566
URL:https://eventfrog.at/de/p/kurse-seminare/coaching/adac-motorrad-kurven-training-1-7380232250950998433.html
END:VEVENT
END:VCALENDAR