BEGIN:VCALENDAR
VERSION:2.0
PRODID:EVENTFROG//EVENT//ICAL
BEGIN:VEVENT
UID:20260422T222804Z-7359498742817415081@eventfrog.at
DTSTAMP:20260422T222804Z
DTSTART:20260425T080000Z
DTEND:20260427T150000Z
SUMMARY:Fortbildung Ayurveda-Berater/in WE1
DESCRIPTION:Gesunde Ernährungs- und Lebensweisen nach dem Ayurvedischen Grundprinzip lernen, und dieses Wissen im Anschluss beratend nutzen.\n\nhttps://eventfrog.at/de/p/gesundheit-spiritualitaet/gesundheit-wohlbefinden/fortbildung-ayurveda-berater-in-we1-7359498742817415081.html
LOCATION:Caduceus Heilpraktikerschule
GEO:54.344583;10.097218
URL:https://eventfrog.at/de/p/gesundheit-spiritualitaet/gesundheit-wohlbefinden/fortbildung-ayurveda-berater-in-we1-7359498742817415081.html
END:VEVENT
END:VCALENDAR